BEGIN:VCALENDAR
PRODID:RAVE.CA V17.0
X-WR-CALNAME:show anti-raciste C3
X-ORIGINAL-URL:https://www.rave.ca/event/15226/
VERSION:2.0
CALSCALE:GREGORIAN
METHOD:PUBLISH
BEGIN:VEVENT
DTSTAMP:20070223T160406Z
LAST-MODIFIED:20070223T160406Z
CREATED:20070223T160304Z
SEQUENCE:15226
ORGANIZER:Unknown
DTSTART:20070223T080000Z
DTEND:20070223T090000Z
UID:event_15226@rave.ca
SUMMARY:show anti-raciste C3
LOCATION:cégep de Maisonneuve
URL:https://www.rave.ca/event/15226/
DESCRIPTION:www.mtlc3.com
CLASS:PUBLIC
CATEGORIES:
STATUS:CONFIRMED
PARTSTAT:ACCEPTED
END:VEVENT
END:VCALENDAR
