BEGIN:VCALENDAR
PRODID:RAVE.CA V17.0
X-WR-CALNAME:La PeÃ±a
X-ORIGINAL-URL:https://www.rave.ca/event/15224/
VERSION:2.0
CALSCALE:GREGORIAN
METHOD:PUBLISH
BEGIN:VEVENT
DTSTAMP:20070225T142915Z
LAST-MODIFIED:20070225T142915Z
CREATED:20070223T144548Z
SEQUENCE:15224
ORGANIZER:Unknown
DTSTART:20070222T000000Z
DTEND:20070222T000000Z
UID:event_15224@rave.ca
SUMMARY:La PeÃ±a
LOCATION:Cancun\, Isla Mujeres
URL:https://www.rave.ca/event/15224/
DESCRIPTION:
CLASS:PUBLIC
CATEGORIES:
STATUS:CONFIRMED
PARTSTAT:ACCEPTED
END:VEVENT
END:VCALENDAR
