BEGIN:VCALENDAR
PRODID:RAVE.CA V17.0
X-WR-CALNAME:Dave O&#039;Brien &amp; Deliz @ The K-Lounge
X-ORIGINAL-URL:https://www.rave.ca/event/15216/
VERSION:2.0
CALSCALE:GREGORIAN
METHOD:PUBLISH
BEGIN:VEVENT
DTSTAMP:20070222T170804Z
LAST-MODIFIED:20070222T170804Z
CREATED:20070222T170646Z
SEQUENCE:15216
ORGANIZER:NCV
DTSTART:20070222T220000Z
DTEND:20070222T220000Z
UID:event_15216@rave.ca
SUMMARY:Dave O'Brien & Deliz @ The K-Lounge
LOCATION:Kafein
URL:https://www.rave.ca/event/15216/
DESCRIPTION:
CLASS:PUBLIC
CATEGORIES:
STATUS:CONFIRMED
PARTSTAT:ACCEPTED
END:VEVENT
END:VCALENDAR
