BEGIN:VCALENDAR
PRODID:RAVE.CA V17.0
X-WR-CALNAME:Pocna
X-ORIGINAL-URL:https://www.rave.ca/event/15210/
VERSION:2.0
CALSCALE:GREGORIAN
METHOD:PUBLISH
BEGIN:VEVENT
DTSTAMP:20070225T142825Z
LAST-MODIFIED:20070225T142825Z
CREATED:20070221T224157Z
SEQUENCE:15210
ORGANIZER:Unknown
DTSTART:20070221T000000Z
DTEND:20070221T000000Z
UID:event_15210@rave.ca
SUMMARY:Pocna
LOCATION:Cancun\, Isla Mujeres
URL:https://www.rave.ca/event/15210/
DESCRIPTION:
CLASS:PUBLIC
CATEGORIES:
STATUS:CONFIRMED
PARTSTAT:ACCEPTED
END:VEVENT
END:VCALENDAR
