BEGIN:VCALENDAR
PRODID:RAVE.CA V17.0
X-WR-CALNAME:World Wide VJ Challenge
X-ORIGINAL-URL:https://www.rave.ca/event/15182/
VERSION:2.0
CALSCALE:GREGORIAN
METHOD:PUBLISH
BEGIN:VEVENT
DTSTAMP:20070217T172711Z
LAST-MODIFIED:20070217T172711Z
CREATED:20070217T172047Z
SEQUENCE:15182
ORGANIZER:Unknown
DTSTART:20070222T090000Z
DTEND:20070222T090000Z
UID:event_15182@rave.ca
SUMMARY:World Wide VJ Challenge
LOCATION:Societe des arts Technologiques
URL:https://www.rave.ca/event/15182/
DESCRIPTION:4 VJ Lutteurs¡­ 1 Ring¡­ Qui gagne ? Vous d¨¦cidez\n\nProgramme\n\n21:00 - E-Teb\n22:00 - OSO 3\n23:00 - Cyan\n24:00 - Robeat\n01:00 - Musique Nordique DJ Team
CLASS:PUBLIC
CATEGORIES:
STATUS:CONFIRMED
PARTSTAT:ACCEPTED
END:VEVENT
END:VCALENDAR
