BEGIN:VCALENDAR
PRODID:RAVE.CA V17.0
X-WR-CALNAME:David Guetta
X-ORIGINAL-URL:https://www.rave.ca/event/15176/
VERSION:2.0
CALSCALE:GREGORIAN
METHOD:PUBLISH
BEGIN:VEVENT
DTSTAMP:20070301T013711Z
LAST-MODIFIED:20070301T013711Z
CREATED:20070216T172721Z
SEQUENCE:15176
ORGANIZER:Unknown
DTSTART:20070313T220000Z
DTEND:20070313T220000Z
UID:event_15176@rave.ca
SUMMARY:David Guetta
LOCATION:Dagobert
URL:https://www.rave.ca/event/15176/
DESCRIPTION:La soirée sera de 22h à 03h00 et le set de Guetta sera à partir de Minuit. \nLes billets seront en vente dès mardi prochain au show de Benassi au coût de 15$ en prévente (20$ porte). \n\nPlus d'infos à venir ! \n\n\nDAVID GUETTA @ DAGOBERT\, MARDI 13 MARS 2007 !
CLASS:PUBLIC
CATEGORIES:
STATUS:CONFIRMED
PARTSTAT:ACCEPTED
END:VEVENT
END:VCALENDAR
