BEGIN:VCALENDAR
PRODID:RAVE.CA V17.0
X-WR-CALNAME:chinese new year house party
X-ORIGINAL-URL:https://www.rave.ca/event/15167/
VERSION:2.0
CALSCALE:GREGORIAN
METHOD:PUBLISH
BEGIN:VEVENT
DTSTAMP:20070215T213841Z
LAST-MODIFIED:20070215T213841Z
CREATED:20070215T213504Z
SEQUENCE:15167
ORGANIZER:Unknown
DTSTART:20070217T080000Z
DTEND:20070217T140000Z
UID:event_15167@rave.ca
SUMMARY:chinese new year house party
LOCATION:my place \, ask me
URL:https://www.rave.ca/event/15167/
DESCRIPTION:oh\, chinese year !!!\n\neatting dumping with beers...\n\nmusic and vjing in my place on a big wall ( 5m*3m )\n\n\n\nparty on ...
CLASS:PUBLIC
CATEGORIES:
STATUS:CONFIRMED
PARTSTAT:ACCEPTED
END:VEVENT
END:VCALENDAR
