BEGIN:VCALENDAR
PRODID:RAVE.CA V17.0
X-WR-CALNAME:Pas Sages
X-ORIGINAL-URL:https://www.rave.ca/event/15157/
VERSION:2.0
CALSCALE:GREGORIAN
METHOD:PUBLISH
BEGIN:VEVENT
DTSTAMP:20070214T124323Z
LAST-MODIFIED:20070214T124323Z
CREATED:20070214T124150Z
SEQUENCE:15157
ORGANIZER:Unknown
DTSTART:20070215T210000Z
DTEND:20070216T030000Z
UID:event_15157@rave.ca
SUMMARY:Pas Sages
LOCATION:Unknown
URL:https://www.rave.ca/event/15157/
DESCRIPTION:Minimal electro\n\nDiagraf\nBaya + Guest\n\n951 Rachel est (coin mentana)\nentrée gratuite
CLASS:PUBLIC
CATEGORIES:
STATUS:CONFIRMED
PARTSTAT:ACCEPTED
END:VEVENT
END:VCALENDAR
