BEGIN:VCALENDAR
PRODID:RAVE.CA V17.0
X-WR-CALNAME:Plug &amp; Play feat. Ashes on the Table (live), Karma &amp; Lotus
X-ORIGINAL-URL:https://www.rave.ca/event/15152/
VERSION:2.0
CALSCALE:GREGORIAN
METHOD:PUBLISH
BEGIN:VEVENT
DTSTAMP:20070212T154104Z
LAST-MODIFIED:20070212T154104Z
CREATED:20070212T154013Z
SEQUENCE:15152
ORGANIZER:Unknown
DTSTART:20070220T000000Z
DTEND:20070220T000000Z
UID:event_15152@rave.ca
SUMMARY:Plug & Play feat. Ashes on the Table (live)\, Karma & Lotus
LOCATION:Jello\, Bar
URL:https://www.rave.ca/event/15152/
DESCRIPTION:
CLASS:PUBLIC
CATEGORIES:
STATUS:CONFIRMED
PARTSTAT:ACCEPTED
END:VEVENT
END:VCALENDAR
