BEGIN:VCALENDAR
PRODID:RAVE.CA V17.0
X-WR-CALNAME:Mayan Appocalyptic
X-ORIGINAL-URL:https://www.rave.ca/event/15143/
VERSION:2.0
CALSCALE:GREGORIAN
METHOD:PUBLISH
BEGIN:VEVENT
DTSTAMP:20070210T201206Z
LAST-MODIFIED:20070210T201206Z
CREATED:20070210T200938Z
SEQUENCE:15143
ORGANIZER:Unknown
DTSTART:20070210T000000Z
DTEND:20070210T000000Z
UID:event_15143@rave.ca
SUMMARY:Mayan Appocalyptic
LOCATION:San Pedro Island
URL:https://www.rave.ca/event/15143/
DESCRIPTION:
CLASS:PUBLIC
CATEGORIES:
STATUS:CONFIRMED
PARTSTAT:ACCEPTED
END:VEVENT
END:VCALENDAR
