BEGIN:VCALENDAR
PRODID:RAVE.CA V17.0
X-WR-CALNAME:Groove Mechanics: Eloi Brunelle &amp; The Autist
X-ORIGINAL-URL:https://www.rave.ca/event/15141/
VERSION:2.0
CALSCALE:GREGORIAN
METHOD:PUBLISH
BEGIN:VEVENT
DTSTAMP:20070210T135846Z
LAST-MODIFIED:20070210T135846Z
CREATED:20070210T135836Z
SEQUENCE:15141
ORGANIZER:Unknown
DTSTART:20070209T220000Z
DTEND:20070209T220000Z
UID:event_15141@rave.ca
SUMMARY:Groove Mechanics: Eloi Brunelle & The Autist
LOCATION:Stereo Bar
URL:https://www.rave.ca/event/15141/
DESCRIPTION:
CLASS:PUBLIC
CATEGORIES:
STATUS:CONFIRMED
PARTSTAT:ACCEPTED
END:VEVENT
END:VCALENDAR
