BEGIN:VCALENDAR
PRODID:RAVE.CA V17.0
X-WR-CALNAME:Jaguar&#039;s Temple
X-ORIGINAL-URL:https://www.rave.ca/event/15138/
VERSION:2.0
CALSCALE:GREGORIAN
METHOD:PUBLISH
BEGIN:VEVENT
DTSTAMP:20070210T201122Z
LAST-MODIFIED:20070210T201122Z
CREATED:20070209T204500Z
SEQUENCE:15138
ORGANIZER:Unknown
DTSTART:20070209T000000Z
DTEND:20070209T000000Z
UID:event_15138@rave.ca
SUMMARY:Jaguar's Temple
LOCATION:San Pedro Island
URL:https://www.rave.ca/event/15138/
DESCRIPTION:
CLASS:PUBLIC
CATEGORIES:
STATUS:CONFIRMED
PARTSTAT:ACCEPTED
END:VEVENT
END:VCALENDAR
