BEGIN:VCALENDAR
PRODID:RAVE.CA V17.0
X-WR-CALNAME:Dizzy Tuesday with Eddy Jasmin &amp; Mightykat
X-ORIGINAL-URL:https://www.rave.ca/event/15134/
VERSION:2.0
CALSCALE:GREGORIAN
METHOD:PUBLISH
BEGIN:VEVENT
DTSTAMP:20070209T035553Z
LAST-MODIFIED:20070209T035553Z
CREATED:20070209T025651Z
SEQUENCE:15134
ORGANIZER:Unknown
DTSTART:20070220T230000Z
DTEND:20070221T030000Z
UID:event_15134@rave.ca
SUMMARY:Dizzy Tuesday with Eddy Jasmin & Mightykat
LOCATION:Academy Dancehall
URL:https://www.rave.ca/event/15134/
DESCRIPTION:Cost : $ 4
CLASS:PUBLIC
CATEGORIES:
STATUS:CONFIRMED
PARTSTAT:ACCEPTED
END:VEVENT
END:VCALENDAR
