BEGIN:VCALENDAR
PRODID:RAVE.CA V17.0
X-WR-CALNAME:Dizzy Tuesday with Saturnin &amp; Mightykat
X-ORIGINAL-URL:https://www.rave.ca/event/15133/
VERSION:2.0
CALSCALE:GREGORIAN
METHOD:PUBLISH
BEGIN:VEVENT
DTSTAMP:20070209T035608Z
LAST-MODIFIED:20070209T035608Z
CREATED:20070209T025030Z
SEQUENCE:15133
ORGANIZER:Unknown
DTSTART:20070213T230000Z
DTEND:20070214T030000Z
UID:event_15133@rave.ca
SUMMARY:Dizzy Tuesday with Saturnin & Mightykat
LOCATION:Academy Dancehall
URL:https://www.rave.ca/event/15133/
DESCRIPTION:Cost : $ 4
CLASS:PUBLIC
CATEGORIES:
STATUS:CONFIRMED
PARTSTAT:ACCEPTED
END:VEVENT
END:VCALENDAR
