BEGIN:VCALENDAR
PRODID:RAVE.CA V17.0
X-WR-CALNAME:Carabian.Pirates
X-ORIGINAL-URL:https://www.rave.ca/event/15126/
VERSION:2.0
CALSCALE:GREGORIAN
METHOD:PUBLISH
BEGIN:VEVENT
DTSTAMP:20070208T122440Z
LAST-MODIFIED:20070208T122440Z
CREATED:20070208T122115Z
SEQUENCE:15126
ORGANIZER:Unknown
DTSTART:20070208T000000Z
DTEND:20070208T000000Z
UID:event_15126@rave.ca
SUMMARY:Carabian.Pirates
LOCATION:caye caulker island
URL:https://www.rave.ca/event/15126/
DESCRIPTION:
CLASS:PUBLIC
CATEGORIES:
STATUS:CONFIRMED
PARTSTAT:ACCEPTED
END:VEVENT
END:VCALENDAR
