BEGIN:VCALENDAR
PRODID:RAVE.CA V17.0
X-WR-CALNAME:Snatch
X-ORIGINAL-URL:https://www.rave.ca/event/15113/
VERSION:2.0
CALSCALE:GREGORIAN
METHOD:PUBLISH
BEGIN:VEVENT
DTSTAMP:20070206T120701Z
LAST-MODIFIED:20070206T120701Z
CREATED:20070206T115523Z
SEQUENCE:15113
ORGANIZER:Unknown
DTSTART:20070205T000000Z
DTEND:20070205T000000Z
UID:event_15113@rave.ca
SUMMARY:Snatch
LOCATION:Unknown
URL:https://www.rave.ca/event/15113/
DESCRIPTION:
CLASS:PUBLIC
CATEGORIES:
STATUS:CONFIRMED
PARTSTAT:ACCEPTED
END:VEVENT
END:VCALENDAR
