BEGIN:VCALENDAR
PRODID:RAVE.CA V17.0
X-WR-CALNAME:! Bienvenue !
X-ORIGINAL-URL:https://www.rave.ca/event/15100/
VERSION:2.0
CALSCALE:GREGORIAN
METHOD:PUBLISH
BEGIN:VEVENT
DTSTAMP:20150810T174558Z
LAST-MODIFIED:20150810T174558Z
CREATED:20070205T225213Z
SEQUENCE:15100
ORGANIZER:Orgone Energy Lab
DTSTART:20070609T210000Z
DTEND:20070609T100000Z
UID:event_15100@rave.ca
SUMMARY:! Bienvenue !
LOCATION:Unknown
URL:https://www.rave.ca/event/15100/
DESCRIPTION:SA SAINTETÉ RAËL en collaboration avec ORGON ENERGY LAB\n\nvous invitent a venir célébrer l'arrivée des élohims sur la planète bleu \n\nla nuit de réjouissances se déroulera a l'ambassade Raëlienne \n\nles élohims désirent que ce grandiose événement se produise en date du 09 juin 2007 \nen cas de pluie \, ils préféreront se faire accueillir le 16 juin afin que la célébration soit réussie \n\nl'ambassade raëlienne occupe un lieu enchanteur ou la grève du st-laurent lui est accessible pour la réunion festive et se trouve a proximité du grand village de québec
CLASS:PUBLIC
CATEGORIES:
STATUS:CONFIRMED
PARTSTAT:ACCEPTED
END:VEVENT
END:VCALENDAR
