BEGIN:VCALENDAR
PRODID:RAVE.CA V17.0
X-WR-CALNAME:The Grand Bazar
X-ORIGINAL-URL:https://www.rave.ca/event/15097/
VERSION:2.0
CALSCALE:GREGORIAN
METHOD:PUBLISH
BEGIN:VEVENT
DTSTAMP:20070211T170452Z
LAST-MODIFIED:20070211T170452Z
CREATED:20070205T180049Z
SEQUENCE:15097
ORGANIZER:Unknown
DTSTART:20070208T100000Z
DTEND:20070209T033000Z
UID:event_15097@rave.ca
SUMMARY:The Grand Bazar
LOCATION:Stereo Bar
URL:https://www.rave.ca/event/15097/
DESCRIPTION:LIVE SHOW FOR ALL SINNERS AND SAINTS.\n\n"A midnight mass held to obsolve you\, the congregation\, of your guilt\, your shame\, and your money."\n\nSINS INCLUDE: \nGospel Electro-House Music\nDance Show\nBody Art Exhibit\nPlay Piercing\nVideo Projections\nand all-out freak show.\n\nA cabaret trilogy hosted by Stereobar.\n*Seat reservations are limited to bottle service customers*\n\n"Just dance away your demons."
CLASS:PUBLIC
CATEGORIES:
STATUS:CONFIRMED
PARTSTAT:ACCEPTED
END:VEVENT
END:VCALENDAR
