BEGIN:VCALENDAR
PRODID:RAVE.CA V17.0
X-WR-CALNAME:Pas Sage
X-ORIGINAL-URL:https://www.rave.ca/event/15093/
VERSION:2.0
CALSCALE:GREGORIAN
METHOD:PUBLISH
BEGIN:VEVENT
DTSTAMP:20070525T113931Z
LAST-MODIFIED:20070525T113931Z
CREATED:20070204T185743Z
SEQUENCE:15093
ORGANIZER:Unknown
DTSTART:20070208T220000Z
DTEND:20070209T030000Z
UID:event_15093@rave.ca
SUMMARY:Pas Sage
LOCATION:Pas-Sages\, Les
URL:https://www.rave.ca/event/15093/
DESCRIPTION:jan pienkowsky\nDiagraf \nFancyFhreek\n\nMinimal-electro-house\nGratuit a la porte \n951 rue rachel est (coin mentana)
CLASS:PUBLIC
CATEGORIES:
STATUS:CONFIRMED
PARTSTAT:ACCEPTED
END:VEVENT
END:VCALENDAR
