BEGIN:VCALENDAR
PRODID:RAVE.CA V17.0
X-WR-CALNAME:blink blinkblink presents &quot;overcast&quot;
X-ORIGINAL-URL:https://www.rave.ca/event/15092/
VERSION:2.0
CALSCALE:GREGORIAN
METHOD:PUBLISH
BEGIN:VEVENT
DTSTAMP:20070206T183200Z
LAST-MODIFIED:20070206T183200Z
CREATED:20070204T161519Z
SEQUENCE:15092
ORGANIZER:Unknown
DTSTART:20070220T210000Z
DTEND:20070220T210000Z
UID:event_15092@rave.ca
SUMMARY:blink blinkblink presents "overcast"
LOCATION:Unknown
URL:https://www.rave.ca/event/15092/
DESCRIPTION:Surround sound installation/performance.\nin the dark.\nlots of sounds.\none set.\nSALA ROSSA\nTUES FEB 20th\n9pm (doors 8pm)\n5$\nblink-blinkblink.com\ndig it.
CLASS:PUBLIC
CATEGORIES:
STATUS:CONFIRMED
PARTSTAT:ACCEPTED
END:VEVENT
END:VCALENDAR
