BEGIN:VCALENDAR
PRODID:RAVE.CA V17.0
X-WR-CALNAME:Burning Man
X-ORIGINAL-URL:https://www.rave.ca/event/15078/
VERSION:2.0
CALSCALE:GREGORIAN
METHOD:PUBLISH
BEGIN:VEVENT
DTSTAMP:20070202T135425Z
LAST-MODIFIED:20070202T135425Z
CREATED:20070202T135227Z
SEQUENCE:15078
ORGANIZER:Unknown
DTSTART:20070201T000000Z
DTEND:20070201T000000Z
UID:event_15078@rave.ca
SUMMARY:Burning Man
LOCATION:lake aticlan\, san pedro
URL:https://www.rave.ca/event/15078/
DESCRIPTION:
CLASS:PUBLIC
CATEGORIES:
STATUS:CONFIRMED
PARTSTAT:ACCEPTED
END:VEVENT
END:VCALENDAR
