BEGIN:VCALENDAR
PRODID:RAVE.CA V17.0
X-WR-CALNAME:thecnologic
X-ORIGINAL-URL:https://www.rave.ca/event/15073/
VERSION:2.0
CALSCALE:GREGORIAN
METHOD:PUBLISH
BEGIN:VEVENT
DTSTAMP:20070224T141727Z
LAST-MODIFIED:20070224T141727Z
CREATED:20070201T212327Z
SEQUENCE:15073
ORGANIZER:Unknown
DTSTART:20070224T220000Z
DTEND:20070225T100000Z
UID:event_15073@rave.ca
SUMMARY:thecnologic
LOCATION:Chill Montreal
URL:https://www.rave.ca/event/15073/
DESCRIPTION:peace a tout ceux qui savent apprécier la musique électronique dans son entier et dans son meilleure...\n\n 10$ l'entrée avec une bouteille d'eau 18 ans et plus
CLASS:PUBLIC
CATEGORIES:
STATUS:CONFIRMED
PARTSTAT:ACCEPTED
END:VEVENT
END:VCALENDAR
