BEGIN:VCALENDAR
PRODID:RAVE.CA V17.0
X-WR-CALNAME:B4 after party
X-ORIGINAL-URL:https://www.rave.ca/event/15071/
VERSION:2.0
CALSCALE:GREGORIAN
METHOD:PUBLISH
BEGIN:VEVENT
DTSTAMP:20070419T173002Z
LAST-MODIFIED:20070419T173002Z
CREATED:20070201T212032Z
SEQUENCE:15071
ORGANIZER:Unknown
DTSTART:20070218T100000Z
DTEND:20070218T100000Z
UID:event_15071@rave.ca
SUMMARY:B4 after party
LOCATION:Chill Montreal
URL:https://www.rave.ca/event/15071/
DESCRIPTION:10$ l'entrée avec une bouteille d'eau 18 ans et plus \n  Bonne fete a dj Marc Lachappelle.....peace...
CLASS:PUBLIC
CATEGORIES:
STATUS:CONFIRMED
PARTSTAT:ACCEPTED
END:VEVENT
END:VCALENDAR
