BEGIN:VCALENDAR
PRODID:RAVE.CA V17.0
X-WR-CALNAME:B4  after party
X-ORIGINAL-URL:https://www.rave.ca/event/15070/
VERSION:2.0
CALSCALE:GREGORIAN
METHOD:PUBLISH
BEGIN:VEVENT
DTSTAMP:20070214T212551Z
LAST-MODIFIED:20070214T212551Z
CREATED:20070201T211710Z
SEQUENCE:15070
ORGANIZER:Unknown
DTSTART:20070217T100000Z
DTEND:20070217T100000Z
UID:event_15070@rave.ca
SUMMARY:B4  after party
LOCATION:Chill Montreal
URL:https://www.rave.ca/event/15070/
DESCRIPTION:10$ l'entrée avec une bouteille d'eau 18 ans et plus
CLASS:PUBLIC
CATEGORIES:
STATUS:CONFIRMED
PARTSTAT:ACCEPTED
END:VEVENT
END:VCALENDAR
