BEGIN:VCALENDAR
PRODID:RAVE.CA V17.0
X-WR-CALNAME:Childrens of house
X-ORIGINAL-URL:https://www.rave.ca/event/15062/
VERSION:2.0
CALSCALE:GREGORIAN
METHOD:PUBLISH
BEGIN:VEVENT
DTSTAMP:20070201T204604Z
LAST-MODIFIED:20070201T204604Z
CREATED:20070201T204300Z
SEQUENCE:15062
ORGANIZER:Unknown
DTSTART:20070203T220000Z
DTEND:20070203T220000Z
UID:event_15062@rave.ca
SUMMARY:Childrens of house
LOCATION:Chill Montreal
URL:https://www.rave.ca/event/15062/
DESCRIPTION:10$ l'entrée avec une bouteille d'eau  18 ans et plus
CLASS:PUBLIC
CATEGORIES:
STATUS:CONFIRMED
PARTSTAT:ACCEPTED
END:VEVENT
END:VCALENDAR
