BEGIN:VCALENDAR
PRODID:RAVE.CA V17.0
X-WR-CALNAME:B4  after party
X-ORIGINAL-URL:https://www.rave.ca/event/15061/
VERSION:2.0
CALSCALE:GREGORIAN
METHOD:PUBLISH
BEGIN:VEVENT
DTSTAMP:20070201T204123Z
LAST-MODIFIED:20070201T204123Z
CREATED:20070201T203824Z
SEQUENCE:15061
ORGANIZER:Unknown
DTSTART:20070203T100000Z
DTEND:20070203T100000Z
UID:event_15061@rave.ca
SUMMARY:B4  after party
LOCATION:Chill Montreal
URL:https://www.rave.ca/event/15061/
DESCRIPTION:10$ l'entrée plus une bouteille d'eau  18 ans et plus
CLASS:PUBLIC
CATEGORIES:
STATUS:CONFIRMED
PARTSTAT:ACCEPTED
END:VEVENT
END:VCALENDAR
