BEGIN:VCALENDAR
PRODID:RAVE.CA V17.0
X-WR-CALNAME:Red Heartz
X-ORIGINAL-URL:https://www.rave.ca/event/15057/
VERSION:2.0
CALSCALE:GREGORIAN
METHOD:PUBLISH
BEGIN:VEVENT
DTSTAMP:20070201T011442Z
LAST-MODIFIED:20070201T011442Z
CREATED:20070201T010903Z
SEQUENCE:15057
ORGANIZER:Unknown
DTSTART:20070210T210000Z
DTEND:20070211T060000Z
UID:event_15057@rave.ca
SUMMARY:Red Heartz
LOCATION:12 St. Paul St.
URL:https://www.rave.ca/event/15057/
DESCRIPTION:Winnipegs DJ Dizz\, Dubbz & Khemlab invade Thunder Bay for a party that you wont want to miss!!!
CLASS:PUBLIC
CATEGORIES:
STATUS:CONFIRMED
PARTSTAT:ACCEPTED
END:VEVENT
END:VCALENDAR
