BEGIN:VCALENDAR
PRODID:RAVE.CA V17.0
X-WR-CALNAME:Les Pas Sages
X-ORIGINAL-URL:https://www.rave.ca/event/15055/
VERSION:2.0
CALSCALE:GREGORIAN
METHOD:PUBLISH
BEGIN:VEVENT
DTSTAMP:20070525T120805Z
LAST-MODIFIED:20070525T120805Z
CREATED:20070131T165024Z
SEQUENCE:15055
ORGANIZER:Unknown
DTSTART:20070201T220000Z
DTEND:20070202T030000Z
UID:event_15055@rave.ca
SUMMARY:Les Pas Sages
LOCATION:Pas-Sages\, Les
URL:https://www.rave.ca/event/15055/
DESCRIPTION:Dj FancyFhreek et Diagraf \nMinimal-electro-house
CLASS:PUBLIC
CATEGORIES:
STATUS:CONFIRMED
PARTSTAT:ACCEPTED
END:VEVENT
END:VCALENDAR
