BEGIN:VCALENDAR
PRODID:RAVE.CA V17.0
X-WR-CALNAME:Soirée mensuelle Kino @ Lion d&#039;Or
X-ORIGINAL-URL:https://www.rave.ca/event/15052/
VERSION:2.0
CALSCALE:GREGORIAN
METHOD:PUBLISH
BEGIN:VEVENT
DTSTAMP:20070131T224622Z
LAST-MODIFIED:20070131T224622Z
CREATED:20070131T113503Z
SEQUENCE:15052
ORGANIZER:Unknown
DTSTART:20070202T203000Z
DTEND:20070203T030000Z
UID:event_15052@rave.ca
SUMMARY:Soirée mensuelle Kino @ Lion d'Or
LOCATION:Lion d'or (1676 Ontario Est\, Montréal)
URL:https://www.rave.ca/event/15052/
DESCRIPTION:Ne manquez pas la prochaine soirée mensuelle de Kino Montréal de l’année 2007\, toujours confortablement installée dans son nouveau royaume du Lion d’Or\, au 1676 Ontario Est\, à deux pas du métro Papineau. On ne change pas les vieilles traditions: ça se passe toujours le premier vendredi du mois\, dès 20h30. \n\nEt pour la première fois dans l’histoire de Kino\, la projection sera suivie d’un méga after-party mettant en vedette le duo de VJs Athanore\, ainsi qu’un DJ surprise! Soyez-y!
CLASS:PUBLIC
CATEGORIES:
STATUS:CONFIRMED
PARTSTAT:ACCEPTED
END:VEVENT
END:VCALENDAR
