BEGIN:VCALENDAR
PRODID:RAVE.CA V17.0
X-WR-CALNAME:Psy-trance Night
X-ORIGINAL-URL:https://www.rave.ca/event/15042/
VERSION:2.0
CALSCALE:GREGORIAN
METHOD:PUBLISH
BEGIN:VEVENT
DTSTAMP:20070128T133143Z
LAST-MODIFIED:20070128T133143Z
CREATED:20070128T132452Z
SEQUENCE:15042
ORGANIZER:Unknown
DTSTART:20070202T000000Z
DTEND:20070202T000000Z
UID:event_15042@rave.ca
SUMMARY:Psy-trance Night
LOCATION:Chill Montreal
URL:https://www.rave.ca/event/15042/
DESCRIPTION:10$ l'entrée plus une bouteille d'eau 18 ans +
CLASS:PUBLIC
CATEGORIES:
STATUS:CONFIRMED
PARTSTAT:ACCEPTED
END:VEVENT
END:VCALENDAR
