BEGIN:VCALENDAR
PRODID:RAVE.CA V17.0
X-WR-CALNAME:StryxVirii &amp; scroll gig
X-ORIGINAL-URL:https://www.rave.ca/event/15041/
VERSION:2.0
CALSCALE:GREGORIAN
METHOD:PUBLISH
BEGIN:VEVENT
DTSTAMP:20070206T163224Z
LAST-MODIFIED:20070206T163224Z
CREATED:20070128T063027Z
SEQUENCE:15041
ORGANIZER:Unknown
DTSTART:20070216T000000Z
DTEND:20070216T000000Z
UID:event_15041@rave.ca
SUMMARY:StryxVirii & scroll gig
LOCATION:Hemisphere Gauche 221 Beaubien est\, Montreal\, Quebec
URL:https://www.rave.ca/event/15041/
DESCRIPTION:StryxVirii music style : Black Metal / Industrial / Experimental\n\nhttp://www.myspace.com/stryxvirii \n\nthe scroll musix style : Electronica / New Wave \n\nhttp://www.myspace.com/thescroll
CLASS:PUBLIC
CATEGORIES:
STATUS:CONFIRMED
PARTSTAT:ACCEPTED
END:VEVENT
END:VCALENDAR
