BEGIN:VCALENDAR
PRODID:RAVE.CA V17.0
X-WR-CALNAME:Decontamination
X-ORIGINAL-URL:https://www.rave.ca/event/15040/
VERSION:2.0
CALSCALE:GREGORIAN
METHOD:PUBLISH
BEGIN:VEVENT
DTSTAMP:20070127T223516Z
LAST-MODIFIED:20070127T223516Z
CREATED:20070127T223157Z
SEQUENCE:15040
ORGANIZER:Unknown
DTSTART:20070217T210000Z
DTEND:20070218T040000Z
UID:event_15040@rave.ca
SUMMARY:Decontamination
LOCATION:el mocambo
URL:https://www.rave.ca/event/15040/
DESCRIPTION:Next Offensive and Hard As NAILS brings you.... \n\nDECONTAMINATION \n\n@ the el mocambo in toronto. 464 Spadina Ave. \n\nA night of raging Hard Techno\, Acid and Dark PsyTek . \n\nFeaturing : \n\nJULIEN LIBERATOR - London U.K. \, SUF collective\, 4X4\, Ultra Funk \nANX - Calgary Alb. - rebel sound system\, myspace.com/anxxx \nDATA DECAY - Ottawa Ont - F.A.K. \, TeknoTurtle radio 89.1 \nPATRICK DSP - Toronto Ont - Fine Audio \, hardsignal\, hydraulix \n\nwith toronto locals : \n\nDizmoe \nFlim \nFreeForm23 \nKen Finch \nLady Bass \nMykal Mayhem \nMz.Demeaner \nOPEL \nSkywalker \nThe Industrial Spies \n\nThis party is 2 room\, 19+ event. \n$10.00 at the door\, from 9:00 pm Till 4:00 am. \n\nIt's going to be WICKED\, If your in toronto\, this will be the place to be. :) \n\nHere's the flyers. :) Front : [www.rave.ca]\nBack : [www.rave.ca]
CLASS:PUBLIC
CATEGORIES:
STATUS:CONFIRMED
PARTSTAT:ACCEPTED
END:VEVENT
END:VCALENDAR
