BEGIN:VCALENDAR
PRODID:RAVE.CA V17.0
X-WR-CALNAME:Telephunk: Bleuchut &amp; Nathan Burns
X-ORIGINAL-URL:https://www.rave.ca/event/15035/
VERSION:2.0
CALSCALE:GREGORIAN
METHOD:PUBLISH
BEGIN:VEVENT
DTSTAMP:20070525T113102Z
LAST-MODIFIED:20070525T113102Z
CREATED:20070127T202852Z
SEQUENCE:15035
ORGANIZER:Microzoo
DTSTART:20070213T220000Z
DTEND:20070213T030000Z
UID:event_15035@rave.ca
SUMMARY:Telephunk: Bleuchut & Nathan Burns
LOCATION:Salon Daome
URL:https://www.rave.ca/event/15035/
DESCRIPTION:This Tuesday\, Atom Heart's Bleuchut will be Microzoo's guest at Salon DaomÃ©'s Telephunk night. A resident at Bily Kun\, Bleuchut had the opportunity to play alongside Trapez' Jeff Samuel at Piknic Electronik last year. His funky minimal beats are sure to get your feet moving!
CLASS:PUBLIC
CATEGORIES:
STATUS:CONFIRMED
PARTSTAT:ACCEPTED
END:VEVENT
END:VCALENDAR
