BEGIN:VCALENDAR
PRODID:RAVE.CA V17.0
X-WR-CALNAME:Underground
X-ORIGINAL-URL:https://www.rave.ca/event/15030/
VERSION:2.0
CALSCALE:GREGORIAN
METHOD:PUBLISH
BEGIN:VEVENT
DTSTAMP:20070131T172445Z
LAST-MODIFIED:20070131T172445Z
CREATED:20070126T200223Z
SEQUENCE:15030
ORGANIZER:Big Bamboo Productions
DTSTART:20070222T220000Z
DTEND:20070222T220000Z
UID:event_15030@rave.ca
SUMMARY:Underground
LOCATION:Metro\, Lounge
URL:https://www.rave.ca/event/15030/
DESCRIPTION:Trivia birthday bash!!
CLASS:PUBLIC
CATEGORIES:
STATUS:CONFIRMED
PARTSTAT:ACCEPTED
END:VEVENT
END:VCALENDAR
