BEGIN:VCALENDAR
PRODID:RAVE.CA V17.0
X-WR-CALNAME:Underground
X-ORIGINAL-URL:https://www.rave.ca/event/15028/
VERSION:2.0
CALSCALE:GREGORIAN
METHOD:PUBLISH
BEGIN:VEVENT
DTSTAMP:20070131T172404Z
LAST-MODIFIED:20070131T172404Z
CREATED:20070126T195838Z
SEQUENCE:15028
ORGANIZER:Big Bamboo Productions
DTSTART:20070208T220000Z
DTEND:20070208T220000Z
UID:event_15028@rave.ca
SUMMARY:Underground
LOCATION:Metro\, Lounge
URL:https://www.rave.ca/event/15028/
DESCRIPTION:
CLASS:PUBLIC
CATEGORIES:
STATUS:CONFIRMED
PARTSTAT:ACCEPTED
END:VEVENT
END:VCALENDAR
