BEGIN:VCALENDAR
PRODID:RAVE.CA V17.0
X-WR-CALNAME:BeatMeUp: NuRavers On The Block + Mz Sunday Luv &amp; MaryHell
X-ORIGINAL-URL:https://www.rave.ca/event/15025/
VERSION:2.0
CALSCALE:GREGORIAN
METHOD:PUBLISH
BEGIN:VEVENT
DTSTAMP:20070424T155842Z
LAST-MODIFIED:20070424T155842Z
CREATED:20070126T183314Z
SEQUENCE:15025
ORGANIZER:Unknown
DTSTART:20070218T220000Z
DTEND:20070219T030000Z
UID:event_15025@rave.ca
SUMMARY:BeatMeUp: NuRavers On The Block + Mz Sunday Luv & MaryHell
LOCATION:Saphir\, Club
URL:https://www.rave.ca/event/15025/
DESCRIPTION:For more info \n\n myspace/nuraversontheblock\n\n myspace/ilovebeatmeup\n\n  myspace/clubsaphir
CLASS:PUBLIC
CATEGORIES:
STATUS:CONFIRMED
PARTSTAT:ACCEPTED
END:VEVENT
END:VCALENDAR
