BEGIN:VCALENDAR
PRODID:RAVE.CA V17.0
X-WR-CALNAME:Valentine&#039;s Day: The Honeymoon - Lingerie Special
X-ORIGINAL-URL:https://www.rave.ca/event/15020/
VERSION:2.0
CALSCALE:GREGORIAN
METHOD:PUBLISH
BEGIN:VEVENT
DTSTAMP:20070125T230248Z
LAST-MODIFIED:20070125T230248Z
CREATED:20070125T230146Z
SEQUENCE:15020
ORGANIZER:DP Entertainment
DTSTART:20070216T220000Z
DTEND:20070217T030000Z
UID:event_15020@rave.ca
SUMMARY:Valentine's Day: The Honeymoon - Lingerie Special
LOCATION:Orchid\, Club
URL:https://www.rave.ca/event/15020/
DESCRIPTION:Material Girl Fridays & DP514.comis proud to present you: The Honeymoon: Lingerie Special  this Friday at Orchid Nightclub. This Valentine’s Day inspired event will be unique as Orchid Nightclub will be transforming itself into hot and sexy honeymoon loft. The bar staff will be dressing up in seductive nightwear for an added effect!\n\nAs well\, Orchid Nightclub will be giving away free roses to the beautiful ladies during the night! Don’t forget\, every Friday is ladies’ night as Orchid offers an OPEN BAR for girls before midnight!
CLASS:PUBLIC
CATEGORIES:
STATUS:CONFIRMED
PARTSTAT:ACCEPTED
END:VEVENT
END:VCALENDAR
