BEGIN:VCALENDAR
PRODID:RAVE.CA V17.0
X-WR-CALNAME:Les Pas sages
X-ORIGINAL-URL:https://www.rave.ca/event/15016/
VERSION:2.0
CALSCALE:GREGORIAN
METHOD:PUBLISH
BEGIN:VEVENT
DTSTAMP:20070125T010202Z
LAST-MODIFIED:20070125T010202Z
CREATED:20070125T005712Z
SEQUENCE:15016
ORGANIZER:Unknown
DTSTART:20070125T220500Z
DTEND:20070126T030000Z
UID:event_15016@rave.ca
SUMMARY:Les Pas sages
LOCATION:Unknown
URL:https://www.rave.ca/event/15016/
DESCRIPTION:Deebacc\,Freeken et Diagraf seron les maîtres de la musique pour cette soirée.\nÉlectro-funky-minimal au menu!
CLASS:PUBLIC
CATEGORIES:
STATUS:CONFIRMED
PARTSTAT:ACCEPTED
END:VEVENT
END:VCALENDAR
