BEGIN:VCALENDAR
PRODID:RAVE.CA V17.0
X-WR-CALNAME:Animatrix
X-ORIGINAL-URL:https://www.rave.ca/event/15013/
VERSION:2.0
CALSCALE:GREGORIAN
METHOD:PUBLISH
BEGIN:VEVENT
DTSTAMP:20070124T203851Z
LAST-MODIFIED:20070124T203851Z
CREATED:20070124T203610Z
SEQUENCE:15013
ORGANIZER:Unknown
DTSTART:20070123T000000Z
DTEND:20070123T000000Z
UID:event_15013@rave.ca
SUMMARY:Animatrix
LOCATION:san pedro\, lake aticlan
URL:https://www.rave.ca/event/15013/
DESCRIPTION:
CLASS:PUBLIC
CATEGORIES:
STATUS:CONFIRMED
PARTSTAT:ACCEPTED
END:VEVENT
END:VCALENDAR
