BEGIN:VCALENDAR
PRODID:RAVE.CA V17.0
X-WR-CALNAME:Casa Royale: Max Hebert &amp; XL
X-ORIGINAL-URL:https://www.rave.ca/event/14997/
VERSION:2.0
CALSCALE:GREGORIAN
METHOD:PUBLISH
BEGIN:VEVENT
DTSTAMP:20070203T190443Z
LAST-MODIFIED:20070203T190443Z
CREATED:20070122T141819Z
SEQUENCE:14997
ORGANIZER:Unknown
DTSTART:20070204T020000Z
DTEND:20070204T100000Z
UID:event_14997@rave.ca
SUMMARY:Casa Royale: Max Hebert & XL
LOCATION:Stereo
URL:https://www.rave.ca/event/14997/
DESCRIPTION:
CLASS:PUBLIC
CATEGORIES:
STATUS:CONFIRMED
PARTSTAT:ACCEPTED
END:VEVENT
END:VCALENDAR
