BEGIN:VCALENDAR
PRODID:RAVE.CA V17.0
X-WR-CALNAME:FBW: Hector Romero, Danny Torrence
X-ORIGINAL-URL:https://www.rave.ca/event/14994/
VERSION:2.0
CALSCALE:GREGORIAN
METHOD:PUBLISH
BEGIN:VEVENT
DTSTAMP:20070122T141437Z
LAST-MODIFIED:20070122T141437Z
CREATED:20070122T141407Z
SEQUENCE:14994
ORGANIZER:Unknown
DTSTART:20070210T020000Z
DTEND:20070210T100000Z
UID:event_14994@rave.ca
SUMMARY:FBW: Hector Romero\, Danny Torrence
LOCATION:Stereo
URL:https://www.rave.ca/event/14994/
DESCRIPTION:
CLASS:PUBLIC
CATEGORIES:
STATUS:CONFIRMED
PARTSTAT:ACCEPTED
END:VEVENT
END:VCALENDAR
