BEGIN:VCALENDAR
PRODID:RAVE.CA V17.0
X-WR-CALNAME:Vincent Lemieux,Crackhaus, Deadbeat
X-ORIGINAL-URL:https://www.rave.ca/event/14990/
VERSION:2.0
CALSCALE:GREGORIAN
METHOD:PUBLISH
BEGIN:VEVENT
DTSTAMP:20070126T175434Z
LAST-MODIFIED:20070126T175434Z
CREATED:20070122T131837Z
SEQUENCE:14990
ORGANIZER:Unknown
DTSTART:20070126T000000Z
DTEND:20070126T000000Z
UID:event_14990@rave.ca
SUMMARY:Vincent Lemieux\,Crackhaus\, Deadbeat
LOCATION:Academy Dancehall
URL:https://www.rave.ca/event/14990/
DESCRIPTION:Another slamming event dedicated to the minimal side of Techno...
CLASS:PUBLIC
CATEGORIES:
STATUS:CONFIRMED
PARTSTAT:ACCEPTED
END:VEVENT
END:VCALENDAR
