BEGIN:VCALENDAR
PRODID:RAVE.CA V17.0
X-WR-CALNAME:Michol
X-ORIGINAL-URL:https://www.rave.ca/event/14975/
VERSION:2.0
CALSCALE:GREGORIAN
METHOD:PUBLISH
BEGIN:VEVENT
DTSTAMP:20070119T202431Z
LAST-MODIFIED:20070119T202431Z
CREATED:20070119T202346Z
SEQUENCE:14975
ORGANIZER:Filthy Crew
DTSTART:20070118T000000Z
DTEND:20070118T000000Z
UID:event_14975@rave.ca
SUMMARY:Michol
LOCATION:Palenque
URL:https://www.rave.ca/event/14975/
DESCRIPTION:
CLASS:PUBLIC
CATEGORIES:
STATUS:CONFIRMED
PARTSTAT:ACCEPTED
END:VEVENT
END:VCALENDAR
