BEGIN:VCALENDAR
PRODID:RAVE.CA V17.0
X-WR-CALNAME:New Ravers on the Block
X-ORIGINAL-URL:https://www.rave.ca/event/14972/
VERSION:2.0
CALSCALE:GREGORIAN
METHOD:PUBLISH
BEGIN:VEVENT
DTSTAMP:20070119T114331Z
LAST-MODIFIED:20070119T114331Z
CREATED:20070119T114135Z
SEQUENCE:14972
ORGANIZER:Unknown
DTSTART:20070127T220000Z
DTEND:20070127T030000Z
UID:event_14972@rave.ca
SUMMARY:New Ravers on the Block
LOCATION:Vinyl
URL:https://www.rave.ca/event/14972/
DESCRIPTION:Come to the first NROTB event saturday January 27th. We will celebrate MiSTER ED's 30th anniversary. Come listen to the latest electro/rock/nu-rave/whatever you call it from Australia & UK played by NROTB duo themselves : Mr. P & Mister Ed at Vinyl Lounge\, 2109 Bleury. Bring your 90s suit!\n\nOur guest dj and friend MARINELLI will open the night!\n\nLast minute NEWS : NORTH from S.L.U. records will also begin our set with killer nu-rave rock!\n\nHANGIN' TOUGH!
CLASS:PUBLIC
CATEGORIES:
STATUS:CONFIRMED
PARTSTAT:ACCEPTED
END:VEVENT
END:VCALENDAR
