BEGIN:VCALENDAR
PRODID:RAVE.CA V17.0
X-WR-CALNAME:Blue October
X-ORIGINAL-URL:https://www.rave.ca/event/14958/
VERSION:2.0
CALSCALE:GREGORIAN
METHOD:PUBLISH
BEGIN:VEVENT
DTSTAMP:20070117T171938Z
LAST-MODIFIED:20070117T171938Z
CREATED:20070117T171922Z
SEQUENCE:14958
ORGANIZER:Unknown
DTSTART:20070127T200000Z
DTEND:20070127T200000Z
UID:event_14958@rave.ca
SUMMARY:Blue October
LOCATION:Unknown
URL:https://www.rave.ca/event/14958/
DESCRIPTION:
CLASS:PUBLIC
CATEGORIES:
STATUS:CONFIRMED
PARTSTAT:ACCEPTED
END:VEVENT
END:VCALENDAR
