BEGIN:VCALENDAR
PRODID:RAVE.CA V17.0
X-WR-CALNAME:Les pas Sages       /FancyFhreek/Jan pienkowsky/dj Diagraf
X-ORIGINAL-URL:https://www.rave.ca/event/14956/
VERSION:2.0
CALSCALE:GREGORIAN
METHOD:PUBLISH
BEGIN:VEVENT
DTSTAMP:20070117T141148Z
LAST-MODIFIED:20070117T141148Z
CREATED:20070117T140714Z
SEQUENCE:14956
ORGANIZER:Unknown
DTSTART:20070118T210000Z
DTEND:20070119T030000Z
UID:event_14956@rave.ca
SUMMARY:Les pas Sages       /FancyFhreek/Jan pienkowsky/dj Diagraf
LOCATION:Unknown
URL:https://www.rave.ca/event/14956/
DESCRIPTION:Les pas sage   -minimal electro night-\n951 Rachel est(coin mentana)\nfree at the door
CLASS:PUBLIC
CATEGORIES:
STATUS:CONFIRMED
PARTSTAT:ACCEPTED
END:VEVENT
END:VCALENDAR
