BEGIN:VCALENDAR
PRODID:RAVE.CA V17.0
X-WR-CALNAME:Dave O&#039;Brien
X-ORIGINAL-URL:https://www.rave.ca/event/14954/
VERSION:2.0
CALSCALE:GREGORIAN
METHOD:PUBLISH
BEGIN:VEVENT
DTSTAMP:20070117T112241Z
LAST-MODIFIED:20070117T112241Z
CREATED:20070117T112048Z
SEQUENCE:14954
ORGANIZER:NCV
DTSTART:20070204T000000Z
DTEND:20070204T000000Z
UID:event_14954@rave.ca
SUMMARY:Dave O'Brien
LOCATION:Billy Kun
URL:https://www.rave.ca/event/14954/
DESCRIPTION:
CLASS:PUBLIC
CATEGORIES:
STATUS:CONFIRMED
PARTSTAT:ACCEPTED
END:VEVENT
END:VCALENDAR
