BEGIN:VCALENDAR
PRODID:RAVE.CA V17.0
X-WR-CALNAME:OnAir w/ Dave O&#039;Brien &amp; Deliz
X-ORIGINAL-URL:https://www.rave.ca/event/14953/
VERSION:2.0
CALSCALE:GREGORIAN
METHOD:PUBLISH
BEGIN:VEVENT
DTSTAMP:20070117T125717Z
LAST-MODIFIED:20070117T125717Z
CREATED:20070117T112009Z
SEQUENCE:14953
ORGANIZER:NCV
DTSTART:20070125T220000Z
DTEND:20070126T010000Z
UID:event_14953@rave.ca
SUMMARY:OnAir w/ Dave O'Brien & Deliz
LOCATION:Kafein
URL:https://www.rave.ca/event/14953/
DESCRIPTION:
CLASS:PUBLIC
CATEGORIES:
STATUS:CONFIRMED
PARTSTAT:ACCEPTED
END:VEVENT
END:VCALENDAR
