BEGIN:VCALENDAR
PRODID:RAVE.CA V17.0
X-WR-CALNAME:5@7 X-Tended de Saycool
X-ORIGINAL-URL:https://www.rave.ca/event/14952/
VERSION:2.0
CALSCALE:GREGORIAN
METHOD:PUBLISH
BEGIN:VEVENT
DTSTAMP:20070117T172559Z
LAST-MODIFIED:20070117T172559Z
CREATED:20070117T003025Z
SEQUENCE:14952
ORGANIZER:Unknown
DTSTART:20070118T170000Z
DTEND:20070118T220000Z
UID:event_14952@rave.ca
SUMMARY:5@7 X-Tended de Saycool
LOCATION:Unknown
URL:https://www.rave.ca/event/14952/
DESCRIPTION:Un spécial «cémafête» en plus de faire 1 an et demi que j'y spinne tous les jeudi comme DJ résident! Le set de ce jeudi soir sera entièrement enregistré live parce que je commence à réellement m'amuser\, même dans un simple «5-à-7»\, d'où son appellation X-TENDED!!  Venez m'y serrer la pince! — Des amis de Québec y seront et on remonte tripper le vendredi soir au Drague!
CLASS:PUBLIC
CATEGORIES:
STATUS:CONFIRMED
PARTSTAT:ACCEPTED
END:VEVENT
END:VCALENDAR
