BEGIN:VCALENDAR
PRODID:RAVE.CA V17.0
X-WR-CALNAME:F.A.M.E. w/ Jason Pelletier &amp; Nathan Zahn
X-ORIGINAL-URL:https://www.rave.ca/event/14949/
VERSION:2.0
CALSCALE:GREGORIAN
METHOD:PUBLISH
BEGIN:VEVENT
DTSTAMP:20070302T160118Z
LAST-MODIFIED:20070302T160118Z
CREATED:20070116T174008Z
SEQUENCE:14949
ORGANIZER:Mirrorballs.ca
DTSTART:20070308T220000Z
DTEND:20070308T220000Z
UID:event_14949@rave.ca
SUMMARY:F.A.M.E. w/ Jason Pelletier & Nathan Zahn
LOCATION:Academy Dancehall
URL:https://www.rave.ca/event/14949/
DESCRIPTION:The 2nd F.A.M.E. monthly\, just in time for the International Women's Day.  To mark the occasion\, there will be no cover for you ladies...\n\nJason Pelletier\, who holds the Techcetera night in Ottawa twice a month\, will show you how it's done in the national capital.  With his blend of funky tech & Chicago house\, you better get ready to jack !\n\nNathan Zahn\, Winnipeg's don of the beats\, will also kick you in the nuts with an unexpected mixing force.  Be ready to be spoon fed tech-electro house wizardry through your shattered teeth...
CLASS:PUBLIC
CATEGORIES:
STATUS:CONFIRMED
PARTSTAT:ACCEPTED
END:VEVENT
END:VCALENDAR
